BEGIN:VCALENDAR
PRODID:-//Compnay Inc//Product Application//EN
VERSION:2.0
METHOD:PUBLISH
BEGIN:VEVENT
DTSTART:20210624
DTSTAMP:20210503T132126Z
UID:dca7d551-0276-4fe4-ad03-68bbed9ab209
CREATED:20210503T132126Z
X-ALT-DESC;FMTTYPE=text/html:
DESCRIPTION:
LAST-MODIFIED:20210503T132126Z
SEQUENCE:0
STATUS:CONFIRMED
SUMMARY:Presidents Reception
TRANSP:OPAQUE
END:VEVENT
END:VCALENDAR
