BEGIN:VCALENDAR
PRODID:-//Compnay Inc//Product Application//EN
VERSION:2.0
METHOD:PUBLISH
BEGIN:VEVENT
DTSTART:20260401
DTSTAMP:20260424T155621Z
UID:83eb0b93-63d5-46ec-ace5-eda9e17e3f0d
CREATED:20260424T155621Z
X-ALT-DESC;FMTTYPE=text/html:
DESCRIPTION:
LAST-MODIFIED:20260424T155621Z
SEQUENCE:0
STATUS:CONFIRMED
SUMMARY:Constitution in the Classroom
TRANSP:OPAQUE
END:VEVENT
END:VCALENDAR
